BEGIN:VCALENDAR
VERSION:2.0
PRODID:-//Southern Huntingdon County School District - ECPv6.15.20//NONSGML v1.0//EN
CALSCALE:GREGORIAN
METHOD:PUBLISH
X-WR-CALNAME:Southern Huntingdon County School District
X-ORIGINAL-URL:https://shcsd.org
X-WR-CALDESC:Events for Southern Huntingdon County School District
REFRESH-INTERVAL;VALUE=DURATION:PT1H
X-Robots-Tag:noindex
X-PUBLISHED-TTL:PT1H
BEGIN:VTIMEZONE
TZID:America/New_York
BEGIN:DAYLIGHT
TZOFFSETFROM:-0500
TZOFFSETTO:-0400
TZNAME:EDT
DTSTART:20260308T070000
END:DAYLIGHT
BEGIN:STANDARD
TZOFFSETFROM:-0400
TZOFFSETTO:-0500
TZNAME:EST
DTSTART:20261101T060000
END:STANDARD
BEGIN:DAYLIGHT
TZOFFSETFROM:-0500
TZOFFSETTO:-0400
TZNAME:EDT
DTSTART:20270314T070000
END:DAYLIGHT
BEGIN:STANDARD
TZOFFSETFROM:-0400
TZOFFSETTO:-0500
TZNAME:EST
DTSTART:20271107T060000
END:STANDARD
BEGIN:DAYLIGHT
TZOFFSETFROM:-0500
TZOFFSETTO:-0400
TZNAME:EDT
DTSTART:20280312T070000
END:DAYLIGHT
BEGIN:STANDARD
TZOFFSETFROM:-0400
TZOFFSETTO:-0500
TZNAME:EST
DTSTART:20281105T060000
END:STANDARD
END:VTIMEZONE
BEGIN:VEVENT
DTSTART;TZID=America/New_York:20270204T190000
DTEND;TZID=America/New_York:20270204T220000
DTSTAMP:20260423T220947
CREATED:20260423T180125Z
LAST-MODIFIED:20260423T180125Z
UID:10006157-1801767600-1801778400@shcsd.org
SUMMARY:Musical
DESCRIPTION:
URL:https://shcsd.org/single-event/musical/2027-02-04/
LOCATION:HS Auditorium
CATEGORIES:District Calendar,HS/MS Calendar
END:VEVENT
BEGIN:VEVENT
DTSTART;TZID=America/New_York:20270205T190000
DTEND;TZID=America/New_York:20270205T220000
DTSTAMP:20260423T220947
CREATED:20260423T180125Z
LAST-MODIFIED:20260423T180125Z
UID:10006158-1801854000-1801864800@shcsd.org
SUMMARY:Musical
DESCRIPTION:
URL:https://shcsd.org/single-event/musical/2027-02-05/
LOCATION:HS Auditorium
CATEGORIES:District Calendar,HS/MS Calendar
END:VEVENT
BEGIN:VEVENT
DTSTART;TZID=America/New_York:20270206T190000
DTEND;TZID=America/New_York:20270206T220000
DTSTAMP:20260423T220947
CREATED:20260423T180125Z
LAST-MODIFIED:20260423T180125Z
UID:10006159-1801940400-1801951200@shcsd.org
SUMMARY:Musical
DESCRIPTION:
URL:https://shcsd.org/single-event/musical/2027-02-06/
LOCATION:HS Auditorium
CATEGORIES:District Calendar,HS/MS Calendar
END:VEVENT
END:VCALENDAR