BEGIN:VCALENDAR
VERSION:2.0
PRODID:-//Southern Huntingdon County School District - ECPv6.15.20//NONSGML v1.0//EN
CALSCALE:GREGORIAN
METHOD:PUBLISH
X-WR-CALNAME:Southern Huntingdon County School District
X-ORIGINAL-URL:https://shcsd.org
X-WR-CALDESC:Events for Southern Huntingdon County School District
REFRESH-INTERVAL;VALUE=DURATION:PT1H
X-Robots-Tag:noindex
X-PUBLISHED-TTL:PT1H
BEGIN:VTIMEZONE
TZID:America/New_York
BEGIN:DAYLIGHT
TZOFFSETFROM:-0500
TZOFFSETTO:-0400
TZNAME:EDT
DTSTART:20250309T070000
END:DAYLIGHT
BEGIN:STANDARD
TZOFFSETFROM:-0400
TZOFFSETTO:-0500
TZNAME:EST
DTSTART:20251102T060000
END:STANDARD
BEGIN:DAYLIGHT
TZOFFSETFROM:-0500
TZOFFSETTO:-0400
TZNAME:EDT
DTSTART:20260308T070000
END:DAYLIGHT
BEGIN:STANDARD
TZOFFSETFROM:-0400
TZOFFSETTO:-0500
TZNAME:EST
DTSTART:20261101T060000
END:STANDARD
BEGIN:DAYLIGHT
TZOFFSETFROM:-0500
TZOFFSETTO:-0400
TZNAME:EDT
DTSTART:20270314T070000
END:DAYLIGHT
BEGIN:STANDARD
TZOFFSETFROM:-0400
TZOFFSETTO:-0500
TZNAME:EST
DTSTART:20271107T060000
END:STANDARD
END:VTIMEZONE
BEGIN:VEVENT
DTSTART;TZID=America/New_York:20261202T190000
DTEND;TZID=America/New_York:20261202T210000
DTSTAMP:20260423T220946
CREATED:20260423T175557Z
LAST-MODIFIED:20260423T175557Z
UID:10006153-1796238000-1796245200@shcsd.org
SUMMARY:Elementary Chorus Concert
DESCRIPTION:
URL:https://shcsd.org/single-event/elementary-chorus-concert/2026-12-02/
LOCATION:HS Auditorium
CATEGORIES:District Calendar,HS/MS Calendar,Rockhill Elem Calendar,Shade Gap Elem Calendar,Spring Farms Elem Calendar
END:VEVENT
BEGIN:VEVENT
DTSTART;TZID=America/New_York:20261203T190000
DTEND;TZID=America/New_York:20261203T210000
DTSTAMP:20260423T220946
CREATED:20260423T175557Z
LAST-MODIFIED:20260423T175557Z
UID:10006154-1796324400-1796331600@shcsd.org
SUMMARY:Elementary Chorus Concert
DESCRIPTION:
URL:https://shcsd.org/single-event/elementary-chorus-concert/2026-12-03/
LOCATION:HS Auditorium
CATEGORIES:District Calendar,HS/MS Calendar,Rockhill Elem Calendar,Shade Gap Elem Calendar,Spring Farms Elem Calendar
END:VEVENT
BEGIN:VEVENT
DTSTART;TZID=America/New_York:20261207T190000
DTEND;TZID=America/New_York:20261207T210000
DTSTAMP:20260423T220946
CREATED:20260423T175557Z
LAST-MODIFIED:20260423T175557Z
UID:10006155-1796670000-1796677200@shcsd.org
SUMMARY:Elementary Chorus Concert
DESCRIPTION:
URL:https://shcsd.org/single-event/elementary-chorus-concert/2026-12-07/
LOCATION:HS Auditorium
CATEGORIES:District Calendar,HS/MS Calendar,Rockhill Elem Calendar,Shade Gap Elem Calendar,Spring Farms Elem Calendar
END:VEVENT
END:VCALENDAR