BEGIN:VCALENDAR
VERSION:2.0
PRODID:-//Southern Huntingdon County School District - ECPv6.15.20//NONSGML v1.0//EN
CALSCALE:GREGORIAN
METHOD:PUBLISH
X-WR-CALNAME:Southern Huntingdon County School District
X-ORIGINAL-URL:https://shcsd.org
X-WR-CALDESC:Events for Southern Huntingdon County School District
REFRESH-INTERVAL;VALUE=DURATION:PT1H
X-Robots-Tag:noindex
X-PUBLISHED-TTL:PT1H
BEGIN:VTIMEZONE
TZID:America/New_York
BEGIN:DAYLIGHT
TZOFFSETFROM:-0500
TZOFFSETTO:-0400
TZNAME:EDT
DTSTART:20240310T070000
END:DAYLIGHT
BEGIN:STANDARD
TZOFFSETFROM:-0400
TZOFFSETTO:-0500
TZNAME:EST
DTSTART:20241103T060000
END:STANDARD
BEGIN:DAYLIGHT
TZOFFSETFROM:-0500
TZOFFSETTO:-0400
TZNAME:EDT
DTSTART:20250309T070000
END:DAYLIGHT
BEGIN:STANDARD
TZOFFSETFROM:-0400
TZOFFSETTO:-0500
TZNAME:EST
DTSTART:20251102T060000
END:STANDARD
BEGIN:DAYLIGHT
TZOFFSETFROM:-0500
TZOFFSETTO:-0400
TZNAME:EDT
DTSTART:20260308T070000
END:DAYLIGHT
BEGIN:STANDARD
TZOFFSETFROM:-0400
TZOFFSETTO:-0500
TZNAME:EST
DTSTART:20261101T060000
END:STANDARD
END:VTIMEZONE
BEGIN:VEVENT
DTSTART;TZID=America/New_York:20250422T160000
DTEND;TZID=America/New_York:20250422T180000
DTSTAMP:20260421T201846
CREATED:20250109T172252Z
LAST-MODIFIED:20250408T182851Z
UID:10005048-1745337600-1745344800@shcsd.org
SUMMARY:Track - AWAY @ Tussey Mt. (w/Berlin & Fannett-Metal) (from 4/8)
DESCRIPTION:T @ TM \nw/Berlin & F-M
URL:https://shcsd.org/single-event/track-away-tussey-mt-w-berlin-fannett-metal/
CATEGORIES:District Calendar,Sports Calendar
END:VEVENT
END:VCALENDAR