BEGIN:VCALENDAR
VERSION:2.0
PRODID:-//Southern Huntingdon County School District - ECPv6.15.20//NONSGML v1.0//EN
CALSCALE:GREGORIAN
METHOD:PUBLISH
X-ORIGINAL-URL:https://shcsd.org
X-WR-CALDESC:Events for Southern Huntingdon County School District
REFRESH-INTERVAL;VALUE=DURATION:PT1H
X-Robots-Tag:noindex
X-PUBLISHED-TTL:PT1H
BEGIN:VTIMEZONE
TZID:America/New_York
BEGIN:DAYLIGHT
TZOFFSETFROM:-0500
TZOFFSETTO:-0400
TZNAME:EDT
DTSTART:20240310T070000
END:DAYLIGHT
BEGIN:STANDARD
TZOFFSETFROM:-0400
TZOFFSETTO:-0500
TZNAME:EST
DTSTART:20241103T060000
END:STANDARD
BEGIN:DAYLIGHT
TZOFFSETFROM:-0500
TZOFFSETTO:-0400
TZNAME:EDT
DTSTART:20250309T070000
END:DAYLIGHT
BEGIN:STANDARD
TZOFFSETFROM:-0400
TZOFFSETTO:-0500
TZNAME:EST
DTSTART:20251102T060000
END:STANDARD
BEGIN:DAYLIGHT
TZOFFSETFROM:-0500
TZOFFSETTO:-0400
TZNAME:EDT
DTSTART:20260308T070000
END:DAYLIGHT
BEGIN:STANDARD
TZOFFSETFROM:-0400
TZOFFSETTO:-0500
TZNAME:EST
DTSTART:20261101T060000
END:STANDARD
END:VTIMEZONE
BEGIN:VTIMEZONE
TZID:UTC
BEGIN:STANDARD
TZOFFSETFROM:+0000
TZOFFSETTO:+0000
TZNAME:UTC
DTSTART:20240101T000000
END:STANDARD
END:VTIMEZONE
BEGIN:VEVENT
DTSTART;TZID=America/New_York:20251108T080000
DTEND;TZID=America/New_York:20251108T200000
DTSTAMP:20260421T223250
CREATED:20250403T164519Z
LAST-MODIFIED:20251121T150237Z
UID:10005217-1762588800-1762632000@shcsd.org
SUMMARY:Elementary Boys' and Girls' Basketball
DESCRIPTION:
URL:https://shcsd.org/single-event/elementary-boys-and-girls-basketball/2025-11-08/
LOCATION:HS Main Gym
CATEGORIES:District Calendar,HS/MS Calendar,Rockhill Elem Calendar,Shade Gap Elem Calendar,Sports Calendar,Spring Farms Elem Calendar
END:VEVENT
BEGIN:VEVENT
DTSTART;TZID=America/New_York:20251110T080000
DTEND;TZID=America/New_York:20251110T114500
DTSTAMP:20260421T223250
CREATED:20250612T133318Z
LAST-MODIFIED:20250612T133318Z
UID:10005442-1762761600-1762775100@shcsd.org
SUMMARY:Early Dismissal - 11:45am
DESCRIPTION:
URL:https://shcsd.org/single-event/early-dismissal-1145am-3/
CATEGORIES:District Calendar,HS/MS Calendar,Rockhill Elem Calendar,Shade Gap Elem Calendar,Spring Farms Elem Calendar
END:VEVENT
BEGIN:VEVENT
DTSTART;VALUE=DATE:20251111
DTEND;VALUE=DATE:20251112
DTSTAMP:20260421T223250
CREATED:20250612T133435Z
LAST-MODIFIED:20250612T133435Z
UID:10005443-1762819200-1762905599@shcsd.org
SUMMARY:NO SCHOOL - Veteran's Day
DESCRIPTION:
URL:https://shcsd.org/single-event/no-school-veterans-day/
CATEGORIES:District Calendar,HS/MS Calendar,Rockhill Elem Calendar,Shade Gap Elem Calendar,Spring Farms Elem Calendar
END:VEVENT
BEGIN:VEVENT
DTSTART;TZID=America/New_York:20251113T190000
DTEND;TZID=America/New_York:20251113T210000
DTSTAMP:20260421T223250
CREATED:20250903T180851Z
LAST-MODIFIED:20250903T180851Z
UID:10005746-1763060400-1763067600@shcsd.org
SUMMARY:National Honor Society Induction
DESCRIPTION:
URL:https://shcsd.org/single-event/national-honor-society-induction-2/
LOCATION:HS Auditorium
CATEGORIES:District Calendar,HS/MS Calendar
END:VEVENT
BEGIN:VEVENT
DTSTART;TZID=America/New_York:20251115T080000
DTEND;TZID=America/New_York:20251115T200000
DTSTAMP:20260421T223251
CREATED:20250403T164519Z
LAST-MODIFIED:20251121T150237Z
UID:10005218-1763193600-1763236800@shcsd.org
SUMMARY:Elementary Boys' and Girls' Basketball
DESCRIPTION:
URL:https://shcsd.org/single-event/elementary-boys-and-girls-basketball/2025-11-15/
LOCATION:HS Main Gym
CATEGORIES:District Calendar,HS/MS Calendar,Rockhill Elem Calendar,Shade Gap Elem Calendar,Sports Calendar,Spring Farms Elem Calendar
END:VEVENT
BEGIN:VEVENT
DTSTART;TZID=America/New_York:20251117T190000
DTEND;TZID=America/New_York:20251117T200000
DTSTAMP:20260421T223251
CREATED:20251020T124517Z
LAST-MODIFIED:20251020T124517Z
UID:10005971-1763406000-1763409600@shcsd.org
SUMMARY:Tri-M Induction Ceremony
DESCRIPTION:
URL:https://shcsd.org/single-event/tri-m-induction-ceremony-2/
LOCATION:HS Auditorium
CATEGORIES:District Calendar,HS/MS Calendar
END:VEVENT
BEGIN:VEVENT
DTSTART;TZID=UTC:20251118T190000
DTEND;TZID=UTC:20251118T210000
DTSTAMP:20260421T223251
CREATED:20240630T193705Z
LAST-MODIFIED:20241216T121724Z
UID:10002010-1763492400-1763499600@shcsd.org
SUMMARY:School Board Meeting
DESCRIPTION:School Board Meeting in the High School Library
URL:https://shcsd.org/single-event/school-board-meeting-2-2-2-2/2025-11-18/
CATEGORIES:District Calendar,HS/MS Calendar,Rockhill Elem Calendar,Shade Gap Elem Calendar,Spring Farms Elem Calendar
END:VEVENT
BEGIN:VEVENT
DTSTART;TZID=America/New_York:20251126T080000
DTEND;TZID=America/New_York:20251126T114500
DTSTAMP:20260421T223251
CREATED:20250612T133543Z
LAST-MODIFIED:20250612T133543Z
UID:10005444-1764144000-1764157500@shcsd.org
SUMMARY:Early Dismissal - 11:45am
DESCRIPTION:
URL:https://shcsd.org/single-event/early-dismissal-1145am-4/
CATEGORIES:District Calendar,HS/MS Calendar,Rockhill Elem Calendar,Shade Gap Elem Calendar,Spring Farms Elem Calendar
END:VEVENT
BEGIN:VEVENT
DTSTART;VALUE=DATE:20251127
DTEND;VALUE=DATE:20251129
DTSTAMP:20260421T223251
CREATED:20250612T133706Z
LAST-MODIFIED:20250612T133706Z
UID:10005445-1764201600-1764374399@shcsd.org
SUMMARY:NO SCHOOL - Thanksgiving Vacation
DESCRIPTION:
URL:https://shcsd.org/single-event/no-school-thanksgiving-vacation/
CATEGORIES:District Calendar,HS/MS Calendar,Rockhill Elem Calendar,Shade Gap Elem Calendar,Spring Farms Elem Calendar
END:VEVENT
BEGIN:VEVENT
DTSTART;VALUE=DATE:20251201
DTEND;VALUE=DATE:20251203
DTSTAMP:20260421T223251
CREATED:20250612T133838Z
LAST-MODIFIED:20250612T133838Z
UID:10005446-1764547200-1764719999@shcsd.org
SUMMARY:NO SCHOOL - Deer Season
DESCRIPTION:
URL:https://shcsd.org/single-event/no-school-deer-season/
CATEGORIES:District Calendar,HS/MS Calendar,Rockhill Elem Calendar,Shade Gap Elem Calendar,Spring Farms Elem Calendar
END:VEVENT
BEGIN:VEVENT
DTSTART;TZID=America/New_York:20251202T180000
DTEND;TZID=America/New_York:20251202T210000
DTSTAMP:20260421T223251
CREATED:20251126T162445Z
LAST-MODIFIED:20251126T162445Z
UID:10005986-1764698400-1764709200@shcsd.org
SUMMARY:Board Meeting
DESCRIPTION:
URL:https://shcsd.org/single-event/board-meeting/
LOCATION:Library
CATEGORIES:District Calendar,HS/MS Calendar
END:VEVENT
BEGIN:VEVENT
DTSTART;TZID=America/New_York:20251203T190000
DTEND;TZID=America/New_York:20251203T210000
DTSTAMP:20260421T223251
CREATED:20241115T194547Z
LAST-MODIFIED:20241115T194547Z
UID:10004887-1764788400-1764795600@shcsd.org
SUMMARY:Elementary Music Concert
DESCRIPTION:
URL:https://shcsd.org/single-event/elementary-music-concert/2025-12-03/
LOCATION:HS Auditorium
CATEGORIES:District Calendar,HS/MS Calendar,Rockhill Elem Calendar,Shade Gap Elem Calendar,Spring Farms Elem Calendar
END:VEVENT
BEGIN:VEVENT
DTSTART;TZID=America/New_York:20251204T190000
DTEND;TZID=America/New_York:20251204T210000
DTSTAMP:20260421T223251
CREATED:20241115T194547Z
LAST-MODIFIED:20241115T194547Z
UID:10004888-1764874800-1764882000@shcsd.org
SUMMARY:Elementary Music Concert
DESCRIPTION:
URL:https://shcsd.org/single-event/elementary-music-concert/2025-12-04/
LOCATION:HS Auditorium
CATEGORIES:District Calendar,HS/MS Calendar,Rockhill Elem Calendar,Shade Gap Elem Calendar,Spring Farms Elem Calendar
END:VEVENT
BEGIN:VEVENT
DTSTART;TZID=America/New_York:20251206T080000
DTEND;TZID=America/New_York:20251206T200000
DTSTAMP:20260421T223251
CREATED:20251121T151104Z
LAST-MODIFIED:20251121T151105Z
UID:10005221-1765008000-1765051200@shcsd.org
SUMMARY:Elementary Boys' and Girls' Basketball
DESCRIPTION:
URL:https://shcsd.org/single-event/elementary-boys-and-girls-basketball-2/2025-12-06/
LOCATION:HS Main Gym
CATEGORIES:District Calendar,HS/MS Calendar,Rockhill Elem Calendar,Shade Gap Elem Calendar,Sports Calendar,Spring Farms Elem Calendar
END:VEVENT
BEGIN:VEVENT
DTSTART;TZID=America/New_York:20251207T080000
DTEND;TZID=America/New_York:20251207T140000
DTSTAMP:20260421T223251
CREATED:20251118T182029Z
LAST-MODIFIED:20251118T182029Z
UID:10005975-1765094400-1765116000@shcsd.org
SUMMARY:SHC Elementary Wrestling event
DESCRIPTION:
URL:https://shcsd.org/single-event/shc-elementary-wrestling-event/
LOCATION:HS Main Gym
CATEGORIES:District Calendar,HS/MS Calendar,Sports Calendar
END:VEVENT
BEGIN:VEVENT
DTSTART;TZID=America/New_York:20251208T190000
DTEND;TZID=America/New_York:20251208T210000
DTSTAMP:20260421T223251
CREATED:20241115T194547Z
LAST-MODIFIED:20241115T194547Z
UID:10004889-1765220400-1765227600@shcsd.org
SUMMARY:Elementary Music Concert
DESCRIPTION:
URL:https://shcsd.org/single-event/elementary-music-concert/2025-12-08/
LOCATION:HS Auditorium
CATEGORIES:District Calendar,HS/MS Calendar,Rockhill Elem Calendar,Shade Gap Elem Calendar,Spring Farms Elem Calendar
END:VEVENT
BEGIN:VEVENT
DTSTART;TZID=America/New_York:20251209T081500
DTEND;TZID=America/New_York:20251209T145000
DTSTAMP:20260421T223251
CREATED:20251119T191440Z
LAST-MODIFIED:20251119T191440Z
UID:10005977-1765268100-1765291800@shcsd.org
SUMMARY:Keystone Test ( Algebra 1 )
DESCRIPTION:
URL:https://shcsd.org/single-event/keystone-test-algebra-1/
CATEGORIES:District Calendar,HS/MS Calendar
END:VEVENT
BEGIN:VEVENT
DTSTART;TZID=America/New_York:20251210T081500
DTEND;TZID=America/New_York:20251210T145000
DTSTAMP:20260421T223251
CREATED:20251119T191715Z
LAST-MODIFIED:20251119T191715Z
UID:10005978-1765354500-1765378200@shcsd.org
SUMMARY:Keystone Testing ( Literature )
DESCRIPTION:
URL:https://shcsd.org/single-event/keystone-testing-literature/
CATEGORIES:District Calendar,HS/MS Calendar
END:VEVENT
BEGIN:VEVENT
DTSTART;TZID=America/New_York:20251211T081500
DTEND;TZID=America/New_York:20251211T145000
DTSTAMP:20260421T223251
CREATED:20251119T191853Z
LAST-MODIFIED:20251119T191853Z
UID:10005979-1765440900-1765464600@shcsd.org
SUMMARY:Keystone Testing ( Biology)
DESCRIPTION:
URL:https://shcsd.org/single-event/keystone-testing-biology/
CATEGORIES:District Calendar,HS/MS Calendar
END:VEVENT
BEGIN:VEVENT
DTSTART;TZID=America/New_York:20251211T190000
DTEND;TZID=America/New_York:20251211T203000
DTSTAMP:20260421T223251
CREATED:20231219T191323Z
LAST-MODIFIED:20231219T191323Z
UID:10002865-1765479600-1765485000@shcsd.org
SUMMARY:Winter Choral Concert
DESCRIPTION:
URL:https://shcsd.org/single-event/winter-choral-concert-2/
LOCATION:HS Auditorium
CATEGORIES:District Calendar,HS/MS Calendar
END:VEVENT
BEGIN:VEVENT
DTSTART;TZID=America/New_York:20251212T080000
DTEND;TZID=America/New_York:20251212T170000
DTSTAMP:20260421T223251
CREATED:20251119T192808Z
LAST-MODIFIED:20251119T192808Z
UID:10005980-1765526400-1765558800@shcsd.org
SUMMARY:Keystone Testing ( Make-ups )
DESCRIPTION:
URL:https://shcsd.org/single-event/keystone-testing-make-ups/2025-12-12/
CATEGORIES:District Calendar,HS/MS Calendar
END:VEVENT
BEGIN:VEVENT
DTSTART;TZID=America/New_York:20251213T080000
DTEND;TZID=America/New_York:20251213T200000
DTSTAMP:20260421T223251
CREATED:20251121T151104Z
LAST-MODIFIED:20251121T151105Z
UID:10005222-1765612800-1765656000@shcsd.org
SUMMARY:Elementary Boys' and Girls' Basketball
DESCRIPTION:
URL:https://shcsd.org/single-event/elementary-boys-and-girls-basketball-2/2025-12-13/
LOCATION:HS Main Gym
CATEGORIES:District Calendar,HS/MS Calendar,Rockhill Elem Calendar,Shade Gap Elem Calendar,Sports Calendar,Spring Farms Elem Calendar
END:VEVENT
BEGIN:VEVENT
DTSTART;TZID=America/New_York:20251213T180000
DTEND;TZID=America/New_York:20251213T210000
DTSTAMP:20260421T223251
CREATED:20250716T134210Z
LAST-MODIFIED:20250716T134309Z
UID:10005530-1765648800-1765659600@shcsd.org
SUMMARY:Fall Madrigal Dinner
DESCRIPTION:Tickets – $12.00
URL:https://shcsd.org/single-event/fall-madrigal-dinner/
LOCATION:Cafeteria
CATEGORIES:District Calendar,HS/MS Calendar
END:VEVENT
BEGIN:VEVENT
DTSTART;TZID=America/New_York:20251215T080000
DTEND;TZID=America/New_York:20251215T170000
DTSTAMP:20260421T223251
CREATED:20251119T192808Z
LAST-MODIFIED:20251119T192808Z
UID:10005981-1765785600-1765818000@shcsd.org
SUMMARY:Keystone Testing ( Make-ups )
DESCRIPTION:
URL:https://shcsd.org/single-event/keystone-testing-make-ups/2025-12-15/
CATEGORIES:District Calendar,HS/MS Calendar
END:VEVENT
BEGIN:VEVENT
DTSTART;TZID=America/New_York:20251216T080000
DTEND;TZID=America/New_York:20251216T170000
DTSTAMP:20260421T223251
CREATED:20251119T192808Z
LAST-MODIFIED:20251119T192808Z
UID:10005982-1765872000-1765904400@shcsd.org
SUMMARY:Keystone Testing ( Make-ups )
DESCRIPTION:
URL:https://shcsd.org/single-event/keystone-testing-make-ups/2025-12-16/
CATEGORIES:District Calendar,HS/MS Calendar
END:VEVENT
BEGIN:VEVENT
DTSTART;TZID=America/New_York:20251217T080000
DTEND;TZID=America/New_York:20251217T170000
DTSTAMP:20260421T223251
CREATED:20251119T192808Z
LAST-MODIFIED:20251119T192808Z
UID:10005983-1765958400-1765990800@shcsd.org
SUMMARY:Keystone Testing ( Make-ups )
DESCRIPTION:
URL:https://shcsd.org/single-event/keystone-testing-make-ups/2025-12-17/
CATEGORIES:District Calendar,HS/MS Calendar
END:VEVENT
BEGIN:VEVENT
DTSTART;TZID=America/New_York:20251217T190000
DTEND;TZID=America/New_York:20251217T210000
DTSTAMP:20260421T223251
CREATED:20250128T193455Z
LAST-MODIFIED:20250128T193455Z
UID:10005096-1765998000-1766005200@shcsd.org
SUMMARY:Band Christmas Concert
DESCRIPTION:Note: Auditorium and cafeteria are reserved for this date (3:00pm to 9:00pm)
URL:https://shcsd.org/single-event/band-christmas-concert/
LOCATION:HS Auditorium
CATEGORIES:District Calendar,HS/MS Calendar
END:VEVENT
BEGIN:VEVENT
DTSTART;TZID=America/New_York:20251219T160000
DTEND;TZID=America/New_York:20251219T200000
DTSTAMP:20260421T223251
CREATED:20251119T160643Z
LAST-MODIFIED:20251119T160643Z
UID:10005976-1766160000-1766174400@shcsd.org
SUMMARY:Little Jewels Academy Christmas Program (6:00 p.m.)
DESCRIPTION:
URL:https://shcsd.org/single-event/little-jewels-academy-christmas-program-600-p-m/
LOCATION:HS Auditorium
CATEGORIES:District Calendar,HS/MS Calendar
END:VEVENT
BEGIN:VEVENT
DTSTART;TZID=America/New_York:20251220T073000
DTEND;TZID=America/New_York:20251220T190000
DTSTAMP:20260421T223251
CREATED:20250128T193708Z
LAST-MODIFIED:20250128T193708Z
UID:10005097-1766215800-1766257200@shcsd.org
SUMMARY:Jr. High Wrestling Tournament
DESCRIPTION:Main Gym and Aux Gym reserved for this date.
URL:https://shcsd.org/single-event/jr-high-wrestling-tournament/
LOCATION:HS Main Gym
CATEGORIES:District Calendar,HS/MS Calendar
END:VEVENT
BEGIN:VEVENT
DTSTART;TZID=America/New_York:20251221T130000
DTEND;TZID=America/New_York:20251221T190000
DTSTAMP:20260421T223251
CREATED:20250128T195237Z
LAST-MODIFIED:20250128T195237Z
UID:10005098-1766322000-1766343600@shcsd.org
SUMMARY:Elementary Wrestling Tournament
DESCRIPTION:Main Gym and Aux Gym Reserved for this date
URL:https://shcsd.org/single-event/elementary-wrestling-tournament-2/
LOCATION:HS Main Gym
CATEGORIES:District Calendar,HS/MS Calendar
END:VEVENT
END:VCALENDAR