BEGIN:VCALENDAR
VERSION:2.0
PRODID:-//Southern Huntingdon County School District - ECPv6.15.20//NONSGML v1.0//EN
CALSCALE:GREGORIAN
METHOD:PUBLISH
X-ORIGINAL-URL:https://shcsd.org
X-WR-CALDESC:Events for Southern Huntingdon County School District
REFRESH-INTERVAL;VALUE=DURATION:PT1H
X-Robots-Tag:noindex
X-PUBLISHED-TTL:PT1H
BEGIN:VTIMEZONE
TZID:UTC
BEGIN:STANDARD
TZOFFSETFROM:+0000
TZOFFSETTO:+0000
TZNAME:UTC
DTSTART:20240101T000000
END:STANDARD
END:VTIMEZONE
BEGIN:VTIMEZONE
TZID:America/New_York
BEGIN:DAYLIGHT
TZOFFSETFROM:-0500
TZOFFSETTO:-0400
TZNAME:EDT
DTSTART:20240310T070000
END:DAYLIGHT
BEGIN:STANDARD
TZOFFSETFROM:-0400
TZOFFSETTO:-0500
TZNAME:EST
DTSTART:20241103T060000
END:STANDARD
BEGIN:DAYLIGHT
TZOFFSETFROM:-0500
TZOFFSETTO:-0400
TZNAME:EDT
DTSTART:20250309T070000
END:DAYLIGHT
BEGIN:STANDARD
TZOFFSETFROM:-0400
TZOFFSETTO:-0500
TZNAME:EST
DTSTART:20251102T060000
END:STANDARD
BEGIN:DAYLIGHT
TZOFFSETFROM:-0500
TZOFFSETTO:-0400
TZNAME:EDT
DTSTART:20260308T070000
END:DAYLIGHT
BEGIN:STANDARD
TZOFFSETFROM:-0400
TZOFFSETTO:-0500
TZNAME:EST
DTSTART:20261101T060000
END:STANDARD
END:VTIMEZONE
BEGIN:VEVENT
DTSTART;TZID=UTC:20250514T183000
DTEND;TZID=UTC:20250514T200000
DTSTAMP:20260421T235837
CREATED:20240630T194008Z
LAST-MODIFIED:20241212T173340Z
UID:10002779-1747247400-1747252800@shcsd.org
SUMMARY:School Board Workshop
DESCRIPTION:The School Board Workshop will be held at 6:30pm in the high school/middle school library.
URL:https://shcsd.org/single-event/school-board-workshop-3-2-2-2/2025-05-14/
CATEGORIES:District Calendar,HS/MS Calendar,Rockhill Elem Calendar,Shade Gap Elem Calendar,Spring Farms Elem Calendar
END:VEVENT
BEGIN:VEVENT
DTSTART;TZID=America/New_York:20250514T093000
DTEND;TZID=America/New_York:20250514T113000
DTSTAMP:20260421T235837
CREATED:20250131T200203Z
LAST-MODIFIED:20250131T200203Z
UID:10005106-1747215000-1747222200@shcsd.org
SUMMARY:Varsity Jacket Fitting
DESCRIPTION:This is for Varsity Athletes that have lettered in a Varsity sport. You must stop in the office to sign up and take an informational sheet.
URL:https://shcsd.org/single-event/varsity-jacket-fitting/
LOCATION:HS Auditorium
CATEGORIES:District Calendar,HS/MS Calendar
END:VEVENT
BEGIN:VEVENT
DTSTART;TZID=America/New_York:20250514T080000
DTEND;TZID=America/New_York:20250514T145000
DTSTAMP:20260421T235837
CREATED:20250326T182254Z
LAST-MODIFIED:20250326T182254Z
UID:10005203-1747209600-1747234200@shcsd.org
SUMMARY:Keystone Testing (a.m. & p.m. sessions)
DESCRIPTION:May 13 – Algebra \nMay 14 – Literature \nMay 15 – Biology \n 
URL:https://shcsd.org/single-event/keystone-testing-a-m-p-m-sessions/2025-05-14/
CATEGORIES:District Calendar,HS/MS Calendar
END:VEVENT
BEGIN:VEVENT
DTSTART;TZID=America/New_York:20250513T080000
DTEND;TZID=America/New_York:20250513T145000
DTSTAMP:20260421T235837
CREATED:20250326T182254Z
LAST-MODIFIED:20250326T182254Z
UID:10005202-1747123200-1747147800@shcsd.org
SUMMARY:Keystone Testing (a.m. & p.m. sessions)
DESCRIPTION:May 13 – Algebra \nMay 14 – Literature \nMay 15 – Biology \n 
URL:https://shcsd.org/single-event/keystone-testing-a-m-p-m-sessions/2025-05-13/
CATEGORIES:District Calendar,HS/MS Calendar
END:VEVENT
BEGIN:VEVENT
DTSTART;TZID=America/New_York:20250512T123000
DTEND;TZID=America/New_York:20250512T140000
DTSTAMP:20260421T235837
CREATED:20250409T142947Z
LAST-MODIFIED:20250506T150021Z
UID:10005236-1747053000-1747058400@shcsd.org
SUMMARY:Grade 7 PSSA Reward day
DESCRIPTION:
URL:https://shcsd.org/single-event/grade-7-pssa-reward-day/
LOCATION:Football Field
CATEGORIES:HS/MS Calendar
END:VEVENT
BEGIN:VEVENT
DTSTART;TZID=America/New_York:20250510T170000
DTEND;TZID=America/New_York:20250510T220000
DTSTAMP:20260421T235837
CREATED:20250120T150832Z
LAST-MODIFIED:20250326T124828Z
UID:10005094-1746896400-1746914400@shcsd.org
SUMMARY:Mini Prom
DESCRIPTION:Mini Prom: The mini prom is separated into two (2) events. The first is for students in 6 and 7 grade.  The second event is for students in 8*\, 9\, and 10 grade.   \n*8 grade students may choose to attend either the first or second event but not both.  \n  \nTimes are as follows: \nGrade 6 & 7  5:00 to 7:00 pm \nGrades 8\, 9\, & 10    7:30 to 10:00 pm
URL:https://shcsd.org/single-event/mini-prom-2/
LOCATION:HS Main Gym
CATEGORIES:District Calendar,HS/MS Calendar
END:VEVENT
BEGIN:VEVENT
DTSTART;TZID=America/New_York:20250509T180000
DTEND;TZID=America/New_York:20250509T220000
DTSTAMP:20260421T235837
CREATED:20240318T162157Z
LAST-MODIFIED:20240318T162157Z
UID:10003642-1746813600-1746828000@shcsd.org
SUMMARY:PROM @ Raystown Resort Conference Center
DESCRIPTION:
URL:https://shcsd.org/single-event/prom-raystown-resort-conference-center/2025-05-09/
CATEGORIES:District Calendar,HS/MS Calendar
END:VEVENT
BEGIN:VEVENT
DTSTART;TZID=America/New_York:20250509T080000
DTEND;TZID=America/New_York:20250509T233000
DTSTAMP:20260421T235837
CREATED:20250221T171421Z
LAST-MODIFIED:20250430T181534Z
UID:10005136-1746777600-1746833400@shcsd.org
SUMMARY:Track and Field Day for Spring Farms Intermediate Students
DESCRIPTION:Soccer Field\, Football Field and Track will be used.
URL:https://shcsd.org/single-event/track-and-field-day-for-spring-farms-intermediate-students/
LOCATION:Football Field
CATEGORIES:District Calendar,HS/MS Calendar,Spring Farms Elem Calendar
END:VEVENT
BEGIN:VEVENT
DTSTART;TZID=America/New_York:20250509T080000
DTEND;TZID=America/New_York:20250509T114500
DTSTAMP:20260421T235837
CREATED:20240626T140600Z
LAST-MODIFIED:20240626T140600Z
UID:10003897-1746777600-1746791100@shcsd.org
SUMMARY:Data Day - Early Dismissal 11:45am
DESCRIPTION:
URL:https://shcsd.org/single-event/data-day-early-dismissal-1145am-2/
CATEGORIES:District Calendar,HS/MS Calendar,Rockhill Elem Calendar,Shade Gap Elem Calendar,Spring Farms Elem Calendar
END:VEVENT
BEGIN:VEVENT
DTSTART;TZID=America/New_York:20250508T163000
DTEND;TZID=America/New_York:20250508T183000
DTSTAMP:20260421T235837
CREATED:20250505T110837Z
LAST-MODIFIED:20250505T110837Z
UID:10005275-1746721800-1746729000@shcsd.org
SUMMARY:Softball - HOME @ Mt. Union (JH)
DESCRIPTION:JHS vs MU
URL:https://shcsd.org/single-event/softball-home-mt-union-jh/
CATEGORIES:District Calendar,HS/MS Calendar,Sports Calendar
END:VEVENT
BEGIN:VEVENT
DTSTART;TZID=America/New_York:20250508T124500
DTEND;TZID=America/New_York:20250508T144500
DTSTAMP:20260421T235837
CREATED:20250326T132035Z
LAST-MODIFIED:20250326T132035Z
UID:10005201-1746708300-1746715500@shcsd.org
SUMMARY:6th Grade Fun Day
DESCRIPTION:
URL:https://shcsd.org/single-event/6th-grade-fun-day/
LOCATION:Football Field
CATEGORIES:District Calendar,HS/MS Calendar
END:VEVENT
BEGIN:VEVENT
DTSTART;TZID=America/New_York:20250508T120000
DTEND;TZID=America/New_York:20250508T145000
DTSTAMP:20260421T235837
CREATED:20250327T174552Z
LAST-MODIFIED:20250327T175410Z
UID:10005211-1746705600-1746715800@shcsd.org
SUMMARY:AP World History: Modern Exam
DESCRIPTION:
URL:https://shcsd.org/single-event/ap-world-history-modern/
CATEGORIES:District Calendar,HS/MS Calendar
END:VEVENT
BEGIN:VEVENT
DTSTART;TZID=America/New_York:20250507T190000
DTEND;TZID=America/New_York:20250507T210000
DTSTAMP:20260421T235837
CREATED:20240429T192310Z
LAST-MODIFIED:20240429T192310Z
UID:10003799-1746644400-1746651600@shcsd.org
SUMMARY:Spring Band Concert
DESCRIPTION:
URL:https://shcsd.org/single-event/spring-band-concert/
LOCATION:HS Auditorium
CATEGORIES:District Calendar,HS/MS Calendar
END:VEVENT
BEGIN:VEVENT
DTSTART;TZID=America/New_York:20250507T080000
DTEND;TZID=America/New_York:20250507T110000
DTSTAMP:20260421T235837
CREATED:20250327T174315Z
LAST-MODIFIED:20250327T174315Z
UID:10005210-1746604800-1746615600@shcsd.org
SUMMARY:AP English Literature & Composition Exam
DESCRIPTION:
URL:https://shcsd.org/single-event/ap-english-literature-composition-exam/
CATEGORIES:District Calendar,HS/MS Calendar
END:VEVENT
BEGIN:VEVENT
DTSTART;TZID=America/New_York:20250507T080000
DTEND;TZID=America/New_York:20250507T103000
DTSTAMP:20260421T235837
CREATED:20250212T191722Z
LAST-MODIFIED:20250212T191722Z
UID:10005120-1746604800-1746613800@shcsd.org
SUMMARY:5th Grade Move Up Day (Spring Farms Elementary)
DESCRIPTION:
URL:https://shcsd.org/single-event/5th-grade-move-up-day-spring-farms-elementary/
LOCATION:HS Auditorium
CATEGORIES:District Calendar,HS/MS Calendar,Spring Farms Elem Calendar
END:VEVENT
BEGIN:VEVENT
DTSTART;TZID=America/New_York:20250506T080000
DTEND;TZID=America/New_York:20250506T103000
DTSTAMP:20260421T235837
CREATED:20250212T191523Z
LAST-MODIFIED:20250212T191523Z
UID:10005119-1746518400-1746527400@shcsd.org
SUMMARY:5th Grade Move-up Day (Rockhill and Shade Gap Elementary)
DESCRIPTION:
URL:https://shcsd.org/single-event/5th-grade-move-up-day-rockhill-and-shade-gap-elementary/
LOCATION:HS Auditorium
CATEGORIES:District Calendar,HS/MS Calendar,Rockhill Elem Calendar,Shade Gap Elem Calendar
END:VEVENT
BEGIN:VEVENT
DTSTART;TZID=America/New_York:20250503T183000
DTEND;TZID=America/New_York:20250503T203000
DTSTAMP:20260421T235837
CREATED:20240429T192110Z
LAST-MODIFIED:20240429T192110Z
UID:10003798-1746297000-1746304200@shcsd.org
SUMMARY:SHC Band Banquet
DESCRIPTION:
URL:https://shcsd.org/single-event/shc-band-banquet/
LOCATION:Cafeteria
CATEGORIES:District Calendar,HS/MS Calendar
END:VEVENT
BEGIN:VEVENT
DTSTART;TZID=America/New_York:20250503T080000
DTEND;TZID=America/New_York:20250503T140000
DTSTAMP:20260421T235837
CREATED:20250321T172835Z
LAST-MODIFIED:20250321T172835Z
UID:10005198-1746259200-1746280800@shcsd.org
SUMMARY:Yard Sale/Bake Sale Fundraiser
DESCRIPTION:
URL:https://shcsd.org/single-event/yard-sale-bake-sale-fundraiser/
LOCATION:HS Auxiliary Gym
CATEGORIES:District Calendar,HS/MS Calendar
END:VEVENT
BEGIN:VEVENT
DTSTART;TZID=America/New_York:20250502T140000
DTEND;TZID=America/New_York:20250502T153000
DTSTAMP:20260421T235837
CREATED:20250416T162345Z
LAST-MODIFIED:20250416T162345Z
UID:10005239-1746194400-1746199800@shcsd.org
SUMMARY:Marianna Fundraiser delivery (Science Club/Physics Class)
DESCRIPTION:
URL:https://shcsd.org/single-event/marianna-fundraiser-delivery-science-club-physics-class/
LOCATION:Cafeteria
CATEGORIES:HS/MS Calendar
END:VEVENT
BEGIN:VEVENT
DTSTART;TZID=America/New_York:20250501T180000
DTEND;TZID=America/New_York:20250501T200000
DTSTAMP:20260421T235837
CREATED:20250213T143544Z
LAST-MODIFIED:20250213T143544Z
UID:10005122-1746122400-1746129600@shcsd.org
SUMMARY:Honors Recognition and Reception
DESCRIPTION:
URL:https://shcsd.org/single-event/honors-recognition-and-reception/
LOCATION:HS Auditorium
CATEGORIES:District Calendar,HS/MS Calendar
END:VEVENT
BEGIN:VEVENT
DTSTART;TZID=America/New_York:20250501T083000
DTEND;TZID=America/New_York:20250501T140000
DTSTAMP:20260421T235837
CREATED:20241115T185219Z
LAST-MODIFIED:20241115T185219Z
UID:10004883-1746088200-1746108000@shcsd.org
SUMMARY:American Red Cross Blood Drive
DESCRIPTION:Sponsored by Student Council
URL:https://shcsd.org/single-event/american-red-cross-blood-drive/
LOCATION:HS Main Gym
CATEGORIES:District Calendar,HS/MS Calendar
END:VEVENT
BEGIN:VEVENT
DTSTART;TZID=America/New_York:20250501T080000
DTEND;TZID=America/New_York:20250501T150000
DTSTAMP:20260421T235837
CREATED:20250320T122752Z
LAST-MODIFIED:20250320T122752Z
UID:10005194-1746086400-1746111600@shcsd.org
SUMMARY:PSSA Science 8th Grade 2 Sections (A.M. and P.M. Testing)
DESCRIPTION:
URL:https://shcsd.org/single-event/pssa-science-8th-grade-2-sections-a-m-and-p-m-testing/
CATEGORIES:District Calendar,HS/MS Calendar
END:VEVENT
BEGIN:VEVENT
DTSTART;TZID=America/New_York:20250430T080000
DTEND;TZID=America/New_York:20250430T120000
DTSTAMP:20260421T235837
CREATED:20250320T122555Z
LAST-MODIFIED:20250320T122555Z
UID:10005193-1746000000-1746014400@shcsd.org
SUMMARY:PSSA Math Section 2 (A.M. Testing)
DESCRIPTION:
URL:https://shcsd.org/single-event/pssa-math-section-2-a-m-testing/
CATEGORIES:District Calendar,HS/MS Calendar
END:VEVENT
BEGIN:VEVENT
DTSTART;TZID=America/New_York:20250429T080000
DTEND;TZID=America/New_York:20250429T120000
DTSTAMP:20260421T235837
CREATED:20250320T122457Z
LAST-MODIFIED:20250320T122457Z
UID:10005192-1745913600-1745928000@shcsd.org
SUMMARY:PSSA Math Section 1 (A.M. Testing)
DESCRIPTION:
URL:https://shcsd.org/single-event/pssa-math-section-1-a-m-testing/
CATEGORIES:District Calendar,HS/MS Calendar
END:VEVENT
BEGIN:VEVENT
DTSTART;TZID=America/New_York:20250427T183000
DTEND;TZID=America/New_York:20250427T203000
DTSTAMP:20260421T235837
CREATED:20250411T170129Z
LAST-MODIFIED:20250411T172326Z
UID:10005237-1745778600-1745785800@shcsd.org
SUMMARY:Girls' Basketball Banquet
DESCRIPTION:
URL:https://shcsd.org/single-event/girls-basketball-banquet/
LOCATION:Cafeteria
CATEGORIES:District Calendar,HS/MS Calendar
END:VEVENT
BEGIN:VEVENT
DTSTART;TZID=America/New_York:20250425T080000
DTEND;TZID=America/New_York:20250425T120000
DTSTAMP:20260421T235837
CREATED:20250320T122234Z
LAST-MODIFIED:20250320T122234Z
UID:10005191-1745568000-1745582400@shcsd.org
SUMMARY:PSSA ELA  Section 3   ( A.M. Testing)
DESCRIPTION:
URL:https://shcsd.org/single-event/pssa-ela-section-3-a-m-testing/
CATEGORIES:District Calendar,HS/MS Calendar
END:VEVENT
BEGIN:VEVENT
DTSTART;TZID=America/New_York:20250424T080000
DTEND;TZID=America/New_York:20250424T145000
DTSTAMP:20260421T235837
CREATED:20250320T121831Z
LAST-MODIFIED:20250320T122849Z
UID:10005190-1745481600-1745506200@shcsd.org
SUMMARY:PSSA ELA Sections 1 and 2 ( A.M. and P.M. Testing)
DESCRIPTION:
URL:https://shcsd.org/single-event/pssa-ela-sections-1-and-2-a-m-p-m-sessions/
CATEGORIES:District Calendar,HS/MS Calendar
END:VEVENT
BEGIN:VEVENT
DTSTART;VALUE=DATE:20250422
DTEND;VALUE=DATE:20250423
DTSTAMP:20260421T235837
CREATED:20240626T135445Z
LAST-MODIFIED:20240626T135836Z
UID:10006152-1745350099-1745350099@shcsd.org
SUMMARY:Spring Break - NO SCHOOL
DESCRIPTION:
URL:https://shcsd.org/single-event/spring-break-no-school/2025-04-22/2/
CATEGORIES:District Calendar,HS/MS Calendar,Rockhill Elem Calendar,Shade Gap Elem Calendar,Spring Farms Elem Calendar
END:VEVENT
BEGIN:VEVENT
DTSTART;VALUE=DATE:20250422
DTEND;VALUE=DATE:20250423
DTSTAMP:20260421T235837
CREATED:20240626T135445Z
LAST-MODIFIED:20240626T135836Z
UID:10006151-1745350033-1745350033@shcsd.org
SUMMARY:Spring Break - NO SCHOOL
DESCRIPTION:
URL:https://shcsd.org/single-event/spring-break-no-school/2025-04-22/1/
CATEGORIES:District Calendar,HS/MS Calendar,Rockhill Elem Calendar,Shade Gap Elem Calendar,Spring Farms Elem Calendar
END:VEVENT
END:VCALENDAR